BEGIN:VCALENDAR
VERSION:2.0
PRODID:-//pretix//pretix.eu//
BEGIN:VTIMEZONE
TZID:Europe/Amsterdam
BEGIN:STANDARD
DTSTART:20001029T040000
RRULE:FREQ=YEARLY;BYDAY=-1SU;BYMONTH=10
TZNAME:CET
TZOFFSETFROM:+0200
TZOFFSETTO:+0100
END:STANDARD
BEGIN:DAYLIGHT
DTSTART:20000326T030000
RRULE:FREQ=YEARLY;BYDAY=-1SU;BYMONTH=3
TZNAME:CEST
TZOFFSETFROM:+0100
TZOFFSETTO:+0200
END:DAYLIGHT
END:VTIMEZONE
BEGIN:VEVENT
UID:pretix-prinspetfoods-bezoekerscentrum-3644450@tickets.prinspetfoods.nl
DTSTART;TZID=Europe/Amsterdam:20230316T130000
DTEND;TZID=Europe/Amsterdam:20230316T143000
DESCRIPTION:Kaartjes: https://tickets.prinspetfoods.nl/3644450/\nDeuren ope
 n: 16-3-2023 14:45\nOrganisator: Prins Petfoods
DTSTAMP:20260420T073552Z
LOCATION:Accustraat 1\, Veenendaal
SUMMARY:Prins Experience
END:VEVENT
END:VCALENDAR
